BEGIN:VCALENDAR
VERSION:2.0
PRODID:-//https://noordwest.hcc.nl///NONSGML kigkonsult.se iCalcreator 2.10.15//
METHOD:PUBLISH
BEGIN:VEVENT
UID:20260422T054533CEST-4565IO2UZv@https://noordwest.hcc.nl/
DTSTAMP:20260422T034533Z
DESCRIPTION:Inloopbijeenkomst https://noordwest.hcc.nl/rss-events/evenement
 /85-inloopbijeenkomst
DTSTART:20260418T110000Z
DTEND:20260418T150000Z
LOCATION:Olympiagebouw (Olympiaweg 17\, 1816 MJ Alkmaar)
SUMMARY:Inloopbijeenkomst
URL:https://noordwest.hcc.nl/rss-events/evenement/85-inloopbijeenkomst
END:VEVENT
BEGIN:VEVENT
UID:20260422T054533CEST-4566pDmPwU@https://noordwest.hcc.nl/
DTSTAMP:20260422T034533Z
DESCRIPTION:Inloop bijeenkomst https://noordwest.hcc.nl/rss-events/evenemen
 t/86-inloop-bijeenkomst
DTSTART:20260502T110000Z
DTEND:20260502T150000Z
LOCATION:Olympiagebouw (Olympiaweg 17\, 1816 MJ Alkmaar)
SUMMARY:Inloop bijeenkomst
URL:https://noordwest.hcc.nl/rss-events/evenement/86-inloop-bijeenkomst
END:VEVENT
BEGIN:VEVENT
UID:20260422T054533CEST-4567MKgpM1@https://noordwest.hcc.nl/
DTSTAMP:20260422T034533Z
DESCRIPTION:Inloop bijeenkomst https://noordwest.hcc.nl/rss-events/evenemen
 t/87-inloop-bijeenkomst
DTSTART:20260516T110000Z
DTEND:20260516T150000Z
LOCATION:Olympiagebouw (Olympiaweg 17\, 1816 MJ Alkmaar)
SUMMARY:Inloop bijeenkomst
URL:https://noordwest.hcc.nl/rss-events/evenement/87-inloop-bijeenkomst
END:VEVENT
END:VCALENDAR
